Workbook
Name 單位名稱___________全名: 申請補助預算表!$T$5:$T$159

Sheet 申請補助預算表
A1: 靜 宜 大 學 學生自治會 | E1: 申請 課外活動費 補助 學生社團經費 預算表 | H1: =VLOOKUP(E3,T4:U153,2,0) -> 單位代號 | I1: 負責人資料表
A2: 一百零八學年度 ．第一學期 | E2: 單位屬性 (屬性) | F2: ="負責人 "&J2&" (姓名)" -> 負責人 (姓名) | I2: 負責人
A3: □期初 □期中□專案□基金 | E3: 單位名稱 (全名)
A4: 款 | B4: 項 | C4: 目 | D4: 申 請 名 稱 | E4: 計 算 基 礎 | F4: 申請金額 | G4: 刪除金額 | H4: 補助金額 | L4: 名稱清單 | M4: 學年度學期 | N4: 會議時間 | O4: 會議時間 | P4: 單位屬性 | Q4: 單位代號 | R4: 單位名稱 | S4: 單位屬性 (屬性) | T4: 單位名稱 (全名) | U4: =Q4 -> 單位代號
A5: 0 | D5: 申請補助總款 | G5: =IF(ISBLANK(H5),,$F5-$H5) -> 0 | L5: 申請補助總款 | M5: 學年度 ．第 學期 | N5: □期初 □期中□專案□基金 | O5: □期初 □期中□專案□基金 | P5: 學生會 | Q5: 0 | S5: =$P$4&" "&P5&" (屬性)" -> 單位屬性 學生會 (屬性) | T5: 000 學生會 | U5: 000
A6: 1 | G6: =IF(ISBLANK(H6),,$F6-$H6) -> 0 | I6: 注意事項 | L6: 「活動」款 | M6: 一百零四學年度 ．第一學期 | N6: ☑期初 □期中□專案□基金 | O6: ☑期初 □期中□專案□基金 | P6: 自治性 | Q6: 000 | R6: 行政中心-總幹事 | S6: =$P$4&" "&P6&" (屬性)" -> 單位屬性 自治性 (屬性) | T6: =$R$4&" "&R6 -> 單位名稱 行政中心-總幹事 | U6: =Q6 -> 000
B7: 1 | G7: =IF(ISBLANK(H7),,$F7-$H7) -> 0 | I7: １. 單位屬性，單位名稱，負責人請填清楚 | L7: 「社務」款 | M7: 一百零四學年度 ．第二學期 | N7: □期初 ☑期中□專案□基金 | O7: □期初 ☑期中□專案□基金 | P7: 服務性 | Q7: 001 | R7: 行政中心-秘書處 | S7: =$P$4&" "&P7&" (屬性)" -> 單位屬性 服務性 (屬性) | T7: =$R$4&" "&R7 -> 單位名稱 行政中心-秘書處 | U7: =Q7 -> 001
C8: 1 | G8: =IF(ISBLANK(H8),,$F8-$H8) -> 0 | I8: ２. 款項目數字請注意 | L8: 「專案」款 | M8: 一百零五學年度 ．第一學期 | N8: □期初 □期中☑專案□基金 | O8: □期初 □期中☑專案□基金 | P8: 思潮性 | Q8: 002 | R8: 行政中心-公關部 | S8: =$P$4&" "&P8&" (屬性)" -> 單位屬性 思潮性 (屬性) | T8: =$R$4&" "&R8 -> 單位名稱 行政中心-公關部 | U8: =Q8 -> 002
G9: =IF(ISBLANK(H9),,$F9-$H9) -> 0 | I9: ３.「活動」款之計算基礎要輸入活動名稱 | L9: 「補助」款 | M9: 一百零五學年度 ．第二學期 | N9: □期初 □期中 □專案☑基金 | O9: □期初 □期中 □專案☑基金 | P9: 音樂性 | Q9: 003 | R9: 行政中心-文化部 | S9: =$P$4&" "&P9&" (屬性)" -> 單位屬性 音樂性 (屬性) | T9: =$R$4&" "&R9 -> 單位名稱 行政中心-文化部 | U9: =Q9 -> 003
G10: =IF(ISBLANK(H10),,$F10-$H10) -> 0 | I10: ４.「活動」款開幾款，就要有幾份企畫書 | L10: 「特別」款 | M10: 一百零六學年度 ．第一學期 | P10: 康樂性 | Q10: 004 | R10: 行政中心-活動部 | S10: =$P$4&" "&P10&" (屬性)" -> 單位屬性 康樂性 (屬性) | T10: =$R$4&" "&R10 -> 單位名稱 行政中心-活動部 | U10: =Q10 -> 004
G11: =IF(ISBLANK(H11),,$F11-$H11) -> 0 | I11: ５.「目」的部分一定要有計算基礎 | L11: 人事費(項) | M11: 一百零六學年度 ．第二學期 | P11: 綜合性 | Q11: 005 | R11: 行政中心-研發部（停） | S11: =$P$4&" "&P11&" (屬性)" -> 單位屬性 綜合性 (屬性) | T11: =$R$4&" "&R11 -> 單位名稱 行政中心-研發部（停） | U11: =Q11 -> 005
G12: =IF(ISBLANK(H12),,$F12-$H12) -> 0 | I12: (EX:燈光音響多少錢/組) | L12: 刊物費(項) | M12: 一百零七學年度 ．第一學期 | P12: 學藝性 | Q12: 006 | R12: 行政中心-新聞部 | S12: =$P$4&" "&P12&" (屬性)" -> 單位屬性 學藝性 (屬性) | T12: =$R$4&" "&R12 -> 單位名稱 行政中心-新聞部 | U12: =Q12 -> 006
G13: =IF(ISBLANK(H13),,$F13-$H13) -> 0 | I13: ６. 計算基礎一定要有單位 | L13: 印刷費(項) | M13: 一百零七學年度 ．第二學期 | P13: 聯誼性 | Q13: 007 | R13: 行政中心-學社部 | S13: =$P$4&" "&P13&" (屬性)" -> 單位屬性 聯誼性 (屬性) | T13: =$R$4&" "&R13 -> 單位名稱 行政中心-學社部 | U13: =Q13 -> 007
G14: =IF(ISBLANK(H14),,$F14-$H14) -> 0 | I14: (EX:影印 100(份)*(10張)*1(元)) | L14: 保險費(項) | M14: 一百零八學年度 ．第一學期 | P14: 體能性 | Q14: 008 | R14: 行政中心-學權部 | S14: =$P$4&" "&P14&" (屬性)" -> 單位屬性 體能性 (屬性) | T14: =$R$4&" "&R14 -> 單位名稱 行政中心-學權部 | U14: =Q14 -> 008
G15: =IF(ISBLANK(H15),,$F15-$H15) -> 0 | I15: ７.「目」跟「目」相加等於「項」 | L15: 差旅費(項) | M15: 一百零八學年度 ．第二學期 | Q15: 009 | R15: 行政中心-總務部 | T15: =$R$4&" "&R15 -> 單位名稱 行政中心-總務部 | U15: =Q15 -> 009
G16: =IF(ISBLANK(H16),,$F16-$H16) -> 0 | I16: 「項」跟「項」相加等於「款」 | L16: 租借費(項) | Q16: 010 | R16: 行政中心-選舉委員會 | T16: =$R$4&" "&R16 -> 單位名稱 行政中心-選舉委員會 | U16: =Q16 -> 010
G17: =IF(ISBLANK(H17),,$F17-$H17) -> 0 | I17: 「款」跟「款」相加等於「總款」 | L17: 耗材費(項) | Q17: 011 | R17: 行政中心-畢業生委員會 | T17: =$R$4&" "&R17 -> 單位名稱 行政中心-畢業生委員會 | U17: =Q17 -> 011
G18: =IF(ISBLANK(H18),,$F18-$H18) -> 0 | L18: 設備費(項) | Q18: 012 | R18: 學生議會-秘書處 | T18: =$R$4&" "&R18 -> 單位名稱 學生議會-秘書處 | U18: =Q18 -> 012
G19: =IF(ISBLANK(H19),,$F19-$H19) -> 0 | L19: 郵電費(項) | Q19: 013 | R19: 學生評議會-秘書處 | T19: =$R$4&" "&R19 -> 單位名稱 學生評議會-秘書處 | U19: =Q19 -> 013
G20: =IF(ISBLANK(H20),,$F20-$H20) -> 0 | L20: 維修費(項) | T20: 100 自治性 | U20: =Q20 -> 0
G21: =IF(ISBLANK(H21),,$F21-$H21) -> 0 | L21: 誤餐費(項) | Q21: 101 | R21: 中國文學系系學會 | T21: =$R$4&" "&R21 -> 單位名稱 中國文學系系學會 | U21: =Q21 -> 101
G22: =IF(ISBLANK(H22),,$F22-$H22) -> 0 | L22: 書報光碟費(項) | Q22: 102 | R22: 大眾傳播學系系學會 | T22: =$R$4&" "&R22 -> 單位名稱 大眾傳播學系系學會 | U22: =Q22 -> 102
G23: =IF(ISBLANK(H23),,$F23-$H23) -> 0 | L23: 報名費(項) | Q23: 103 | R23: 化粧品科系系學會 | T23: =$R$4&" "&R23 -> 單位名稱 化粧品科系系學會 | U23: =Q23 -> 103
G24: =IF(ISBLANK(H24),,$F24-$H24) -> 0 | L24: 第一預備金(項) | Q24: 104 | R24: 日本語文學系系學會 | T24: =$R$4&" "&R24 -> 單位名稱 日本語文學系系學會 | U24: =Q24 -> 104
G25: =IF(ISBLANK(H25),,$F25-$H25) -> 0 | L25: 第二預備金(項) | Q25: 105 | R25: 台灣文學系系學會 | T25: =$R$4&" "&R25 -> 單位名稱 台灣文學系系學會 | U25: =Q25 -> 105
G26: =IF(ISBLANK(H26),,$F26-$H26) -> 0 | Q26: 106 | R26: 生態學系系學會 | T26: =$R$4&" "&R26 -> 單位名稱 生態學系系學會 | U26: =Q26 -> 106
G27: =IF(ISBLANK(H27),,$F27-$H27) -> 0 | Q27: 107 | R27: 企業管理學系系學會 | T27: =$R$4&" "&R27 -> 單位名稱 企業管理學系系學會 | U27: =Q27 -> 107
G28: =IF(ISBLANK(H28),,$F28-$H28) -> 0 | Q28: 108 | R28: 西班語文學系系學會 | T28: =$R$4&" "&R28 -> 單位名稱 西班語文學系系學會 | U28: =Q28 -> 108
G29: =IF(ISBLANK(H29),,$F29-$H29) -> 0 | Q29: 109 | R29: 法律學系系學會 | T29: =$R$4&" "&R29 -> 單位名稱 法律學系系學會 | U29: =Q29 -> 109
G30: =IF(ISBLANK(H30),,$F30-$H30) -> 0 | Q30: 110 | R30: 社會工作暨兒童福利學系系學會 | T30: =$R$4&" "&R30 -> 單位名稱 社會工作暨兒童福利學系系學會 | U30: =Q30 -> 110
G31: =IF(ISBLANK(H31),,$F31-$H31) -> 0 | Q31: 111 | R31: 英國語文學系系學會 | T31: =$R$4&" "&R31 -> 單位名稱 英國語文學系系學會 | U31: =Q31 -> 111
G32: =IF(ISBLANK(H32),,$F32-$H32) -> 0 | Q32: 112 | R32: 食品營養學系系學會 | T32: =$R$4&" "&R32 -> 單位名稱 食品營養學系系學會 | U32: =Q32 -> 112
G33: =IF(ISBLANK(H33),,$F33-$H33) -> 0 | Q33: 113 | R33: 財務金融學系系學會 | T33: =$R$4&" "&R33 -> 單位名稱 財務金融學系系學會 | U33: =Q33 -> 113
G34: =IF(ISBLANK(H34),,$F34-$H34) -> 0 | Q34: 114 | R34: 國際企業學系系學會 | T34: =$R$4&" "&R34 -> 單位名稱 國際企業學系系學會 | U34: =Q34 -> 114
G35: =IF(ISBLANK(H35),,$F35-$H35) -> 0 | I35: 注意事項 | Q35: 115 | R35: 會計學系系學會 | T35: =$R$4&" "&R35 -> 單位名稱 會計學系系學會 | U35: =Q35 -> 115
G36: =IF(ISBLANK(H36),,$F36-$H36) -> 0 | I36: １. 單位屬性，單位名稱，負責人請填清楚 | Q36: 116 | R36: 資訊工程學系系學會 | T36: =$R$4&" "&R36 -> 單位名稱 資訊工程學系系學會 | U36: =Q36 -> 116
G37: =IF(ISBLANK(H37),,$F37-$H37) -> 0 | I37: ２. 款項目數字請注意 | Q37: 117 | R37: 資訊傳播工程學系系學會 | T37: =$R$4&" "&R37 -> 單位名稱 資訊傳播工程學系系學會 | U37: =Q37 -> 117
G38: =IF(ISBLANK(H38),,$F38-$H38) -> 0 | I38: ３.「活動」款之計算基礎要輸入活動名稱 | Q38: 118 | R38: 資訊管理學系系學會 | T38: =$R$4&" "&R38 -> 單位名稱 資訊管理學系系學會 | U38: =Q38 -> 118
G39: =IF(ISBLANK(H39),,$F39-$H39) -> 0 | I39: ４.「活動」款開幾款，就要有幾份企畫書 | Q39: 119 | R39: 應用化學系系學會 | T39: =$R$4&" "&R39 -> 單位名稱 應用化學系系學會 | U39: =Q39 -> 119
G40: =IF(ISBLANK(H40),,$F40-$H40) -> 0 | I40: ５.「目」的部分一定要有計算基礎 | Q40: 120 | R40: 財務工程學系系學會 | T40: =$R$4&" "&R40 -> 單位名稱 財務工程學系系學會 | U40: =Q40 -> 120
G41: =IF(ISBLANK(H41),,$F41-$H41) -> 0 | I41: (EX:燈光音響多少錢/組) | Q41: 121 | R41: 觀光事業學系系學會 | T41: =$R$4&" "&R41 -> 單位名稱 觀光事業學系系學會 | U41: =Q41 -> 121
G42: =IF(ISBLANK(H42),,$F42-$H42) -> 0 | I42: ６. 計算基礎一定要有單位 | Q42: 122 | R42: 師資培育中心學生會（停） | T42: =$R$4&" "&R42 -> 單位名稱 師資培育中心學生會（停） | U42: =Q42 -> 122
G43: =IF(ISBLANK(H43),,$F43-$H43) -> 0 | I43: (EX:影印 100(份)*(10張)*1(元)) | Q43: 123 | R43: 資料科學暨大數據分析與應用學系系學會 | T43: =$R$4&" "&R43 -> 單位名稱 資料科學暨大數據分析與應用學系系學會 | U43: =Q43 -> 123
G44: =IF(ISBLANK(H44),,$F44-$H44) -> 0 | I44: ７.「目」跟「目」相加等於「項」 | Q44: 124 | R44: 經營管理進修學士班系學會（停） | T44: =$R$4&" "&R44 -> 單位名稱 經營管理進修學士班系學會（停） | U44: =Q44 -> 124
G45: =IF(ISBLANK(H45),,$F45-$H45) -> 0 | I45: 「項」跟「項」相加等於「款」 | Q45: 125 | R45: 教育研究所研究生協會 | T45: =$R$4&" "&R45 -> 單位名稱 教育研究所研究生協會 | U45: =Q45 -> 125
G46: =IF(ISBLANK(H46),,$F46-$H46) -> 0 | I46: 「款」跟「款」相加等於「總款」 | Q46: 126 | R46: 寰宇管理學士學位學程學生會 | T46: =$R$4&" "&R46 -> 單位名稱 寰宇管理學士學位學程學生會 | U46: =Q46 -> 126
G47: =IF(ISBLANK(H47),,$F47-$H47) -> 0 | Q47: 127 | R47: 寰宇外語教育學士學位學程學生會 | T47: =$R$4&" "&R47 -> 單位名稱 寰宇外語教育學士學位學程學生會 | U47: =Q47 -> 127
G48: =IF(ISBLANK(H48),,$F48-$H48) -> 0 | T48: 200 服務性 | U48: =Q48 -> 0
G49: =IF(ISBLANK(H49),,$F49-$H49) -> 0 | Q49: 201 | R49: 中區學術交流服務社（停） | T49: =$R$4&" "&R49 -> 單位名稱 中區學術交流服務社（停） | U49: =Q49 -> 201
G50: =IF(ISBLANK(H50),,$F50-$H50) -> 0 | Q50: 202 | R50: 志願服務隊（停） | T50: =$R$4&" "&R50 -> 單位名稱 志願服務隊（停） | U50: =Q50 -> 202
G51: =IF(ISBLANK(H51),,$F51-$H51) -> 0 | Q51: 203 | R51: 春暉社 | T51: =$R$4&" "&R51 -> 單位名稱 春暉社 | U51: =Q51 -> 203
G52: =IF(ISBLANK(H52),,$F52-$H52) -> 0 | Q52: 204 | R52: 基層文化服務社 | T52: =$R$4&" "&R52 -> 單位名稱 基層文化服務社 | U52: =Q52 -> 204
G53: =IF(ISBLANK(H53),,$F53-$H53) -> 0 | Q53: 205 | R53: 崇仁青年服務社 | T53: =$R$4&" "&R53 -> 單位名稱 崇仁青年服務社 | U53: =Q53 -> 205
G54: =IF(ISBLANK(H54),,$F54-$H54) -> 0 | Q54: 206 | R54: 救助傷患災害服務隊 | T54: =$R$4&" "&R54 -> 單位名稱 救助傷患災害服務隊 | U54: =Q54 -> 206
G55: =IF(ISBLANK(H55),,$F55-$H55) -> 0 | Q55: 207 | R55: 慈幼社 | T55: =$R$4&" "&R55 -> 單位名稱 慈幼社 | U55: =Q55 -> 207
G56: =IF(ISBLANK(H56),,$F56-$H56) -> 0 | Q56: 208 | R56: 慈濟青年社 | T56: =$R$4&" "&R56 -> 單位名稱 慈濟青年社 | U56: =Q56 -> 208
G57: =IF(ISBLANK(H57),,$F57-$H57) -> 0 | Q57: 209 | R57: 勵志親善大使服務隊 | T57: =$R$4&" "&R57 -> 單位名稱 勵志親善大使服務隊 | U57: =Q57 -> 209
G58: =IF(ISBLANK(H58),,$F58-$H58) -> 0 | Q58: 210 | R58: 複式童軍團 | T58: =$R$4&" "&R58 -> 單位名稱 複式童軍團 | U58: =Q58 -> 210
G59: =IF(ISBLANK(H59),,$F59-$H59) -> 0 | Q59: 211 | R59: 法律服務社 | T59: =$R$4&" "&R59 -> 單位名稱 法律服務社 | U59: =Q59 -> 211
G60: =IF(ISBLANK(H60),,$F60-$H60) -> 0 | T60: 300 思潮性 | U60: =Q60 -> 0
G61: =IF(ISBLANK(H61),,$F61-$H61) -> 0 | Q61: 301 | R61: 生命探索社 | T61: =$R$4&" "&R61 -> 單位名稱 生命探索社 | U61: =Q61 -> 301
G62: =IF(ISBLANK(H62),,$F62-$H62) -> 0 | Q62: 302 | R62: 光鹽社 | T62: =$R$4&" "&R62 -> 單位名稱 光鹽社 | U62: =Q62 -> 302
G63: =IF(ISBLANK(H63),,$F63-$H63) -> 0 | Q63: 303 | R63: 宇宙真道靜心社（停） | T63: =$R$4&" "&R63 -> 單位名稱 宇宙真道靜心社（停） | U63: =Q63 -> 303
G64: =IF(ISBLANK(H64),,$F64-$H64) -> 0 | Q64: 304 | R64: 東方哲學社 | T64: =$R$4&" "&R64 -> 單位名稱 東方哲學社 | U64: =Q64 -> 304
G65: =IF(ISBLANK(H65),,$F65-$H65) -> 0 | Q65: 305 | R65: 信望愛社 | T65: =$R$4&" "&R65 -> 單位名稱 信望愛社 | U65: =Q65 -> 305
G66: =IF(ISBLANK(H66),,$F66-$H66) -> 0 | Q66: 306 | R66: 學園愛加倍社 | T66: =$R$4&" "&R66 -> 單位名稱 學園愛加倍社 | U66: =Q66 -> 306
G67: =IF(ISBLANK(H67),,$F67-$H67) -> 0 | Q67: 307 | R67: 青年領袖教育學社 | T67: =$R$4&" "&R67 -> 單位名稱 青年領袖教育學社 | U67: =Q67 -> 307
Q68: 308 | R68: 崇德社 | T68: =$R$4&" "&R68 -> 單位名稱 崇德社 | U68: =Q68 -> 308
G69: =IF(ISBLANK(H69),,$F69-$H69) -> 0 | Q69: 309 | R69: 如來實證社（停） | T69: =$R$4&" "&R69 -> 單位名稱 如來實證社（停） | U69: =Q69 -> 309
G70: =IF(ISBLANK(H70),,$F70-$H70) -> 0 | Q70: 310 | R70: 禪悅社 | T70: 單位名稱 禪悅社 | U70: =Q70 -> 310
G71: =IF(ISBLANK(H71),,$F71-$H71) -> 0 | T71: 400 音樂性 | U71: =Q71 -> 0
G72: =IF(ISBLANK(H72),,$F72-$H72) -> 0 | Q72: 401 | R72: 琴韻箏聲社 | T72: =$R$4&" "&R72 -> 單位名稱 琴韻箏聲社 | U72: =Q72 -> 401
G73: =IF(ISBLANK(H73),,$F73-$H73) -> 0 | Q73: 402 | R73: 鋼琴社 | T73: =$R$4&" "&R73 -> 單位名稱 鋼琴社 | U73: =Q73 -> 402
G74: =IF(ISBLANK(H74),,$F74-$H74) -> 0 | Q74: 403 | R74: 琴聲飛揚吉他社 | T74: =$R$4&" "&R74 -> 單位名稱 琴聲飛揚吉他社 | U74: =Q74 -> 403
G75: =IF(ISBLANK(H75),,$F75-$H75) -> 0 | Q75: 404 | R75: 雅音國樂團 | T75: =$R$4&" "&R75 -> 單位名稱 雅音國樂團 | U75: =Q75 -> 404
G76: =IF(ISBLANK(H76),,$F76-$H76) -> 0 | Q76: 405 | R76: 管樂社 | T76: =$R$4&" "&R76 -> 單位名稱 管樂社 | U76: =Q76 -> 405
G77: =IF(ISBLANK(H77),,$F77-$H77) -> 0 | Q77: 406 | R77: 夢格琴迴口琴社（停） | T77: =$R$4&" "&R77 -> 單位名稱 夢格琴迴口琴社（停） | U77: =Q77 -> 406
G78: =IF(ISBLANK(H78),,$F78-$H78) -> 0 | Q78: 407 | R78: 人聲樂團 | T78: =$R$4&" "&R78 -> 單位名稱 人聲樂團 | U78: =Q78 -> 407
Q79: 408 | R79: 熱門音樂社 | T79: =$R$4&" "&R79 -> 單位名稱 熱門音樂社 | U79: =Q79 -> 408
G80: =IF(ISBLANK(H80),,$F80-$H80) -> 0 | Q80: 409 | R80: 赤盛風吟三線社（停） | T80: =$R$4&" "&R80 -> 單位名稱 赤盛風吟三線社（停） | U80: =Q80 -> 409
Q81: 410 | R81: 日本太鼓社 | T81: =$R$4&" "&R81 -> 單位名稱 日本太鼓社 | U81: =Q81 -> 410
G82: =IF(ISBLANK(H82),,$F82-$H82) -> 0 | Q82: 411 | R82: BeatBox社（停） | T82: =$R$4&" "&R82 -> 單位名稱 BeatBox社（停） | U82: =Q82 -> 411
G83: =IF(ISBLANK(H83),,$F83-$H83) -> 0 | Q83: 412 | R83: 歌唱研習社 | T83: =$R$4&" "&R83 -> 單位名稱 歌唱研習社 | U83: =Q83 -> 412
G84: =IF(ISBLANK(H84),,$F84-$H84) -> 0 | T84: 500 康樂性 | U84: =Q84 -> 0
G85: =IF(ISBLANK(H85),,$F85-$H85) -> 0 | Q85: 501 | R85: 迎曦世界民俗舞蹈社（停） | T85: =$R$4&" "&R85 -> 單位名稱 迎曦世界民俗舞蹈社（停） | U85: =Q85 -> 501
G86: =IF(ISBLANK(H86),,$F86-$H86) -> 0 | Q86: 502 | R86: 國際標準舞社（停） | T86: =$R$4&" "&R86 -> 單位名稱 國際標準舞社（停） | U86: =Q86 -> 502
G87: =IF(ISBLANK(H87),,$F87-$H87) -> 0 | Q87: 503 | R87: 登山社 | T87: =$R$4&" "&R87 -> 單位名稱 登山社 | U87: =Q87 -> 503
G88: =IF(ISBLANK(H88),,$F88-$H88) -> 0 | Q88: 504 | R88: 熱舞社 | T88: =$R$4&" "&R88 -> 單位名稱 熱舞社 | U88: =Q88 -> 504
G89: =IF(ISBLANK(H89),,$F89-$H89) -> 0 | Q89: 505 | R89: 象棋社（停） | T89: =$R$4&" "&R89 -> 單位名稱 象棋社（停） | U89: =Q89 -> 505
G90: =IF(ISBLANK(H90),,$F90-$H90) -> 0 | Q90: 506 | R90: 中東肚皮舞社（停） | T90: =$R$4&" "&R90 -> 單位名稱 中東肚皮舞社（停） | U90: =Q90 -> 506
G91: =IF(ISBLANK(H91),,$F91-$H91) -> 0 | Q91: 507 | R91: 橋藝社（停） | T91: =$R$4&" "&R91 -> 單位名稱 橋藝社（停） | U91: =Q91 -> 507
G92: =IF(ISBLANK(H92),,$F92-$H92) -> 0 | Q92: 508 | R92: 魔術社 | T92: =$R$4&" "&R92 -> 單位名稱 魔術社 | U92: =Q92 -> 508
Q93: 509 | R93: 益智桌遊玩聚社 | T93: =$R$4&" "&R93 -> 單位名稱 益智桌遊玩聚社 | U93: =Q93 -> 509
Q94: 510 | R94: 電子飛鏢社 | T94: =$R$4&" "&R94 -> 單位名稱 電子飛鏢社 | U94: =Q94 -> 510
G95: =IF(ISBLANK(H95),,$F95-$H95) -> 0 | Q95: 511 | R95: 態度劍玉社（停） | T95: =$R$4&" "&R95 -> 單位名稱 態度劍玉社（停） | U95: =Q95 -> 511
G96: =IF(ISBLANK(H96),,$F96-$H96) -> 0 | Q96: 512 | R96: 火舞魅力研究社 | T96: =$R$4&" "&R96 -> 單位名稱 火舞魅力研究社 | U96: =Q96 -> 512
G97: =IF(ISBLANK(H97),,$F97-$H97) -> 0 | T97: 600 綜合性 | U97: =Q97 -> 0
G98: =IF(ISBLANK(H98),,$F98-$H98) -> 0 | Q98: 601 | R98: 手語社 | T98: =$R$4&" "&R98 -> 單位名稱 手語社 | U98: =Q98 -> 601
G99: =IF(ISBLANK(H99),,$F99-$H99) -> 0 | Q99: 602 | R99: 宜風劇坊話劇社 | T99: =$R$4&" "&R99 -> 單位名稱 宜風劇坊話劇社 | U99: =Q99 -> 602
G100: =IF(ISBLANK(H100),,$F100-$H100) -> 0 | Q100: 603 | R100: 旅遊規劃研究社 | T100: =$R$4&" "&R100 -> 單位名稱 旅遊規劃研究社 | U100: =Q100 -> 603
...

Sheet 法定預算申請表
A1: 靜 宜 大 學 學生自治會 | G1: 課外活動費 補助 學生社團經費 法定預算申請表 | L1: =申請補助預算表!H1 -> 單位代號
A2: =申請補助預算表!A2 -> 一百零八學年度 ．第一學期 | G2: =申請補助預算表!E2 -> 單位屬性 (屬性) | J2: =申請補助預算表!F2 -> 負責人 (姓名)
A3: =申請補助預算表!A3 -> □期初 □期中□專案□基金 | G3: =申請補助預算表!E3 -> 單位名稱 (全名) | J3: =申請補助預算表!F3 -> 0
A4: 款 | B4: 項 | C4: 目 | D4: 申 請 名 稱 | G4: 計 算 基 礎 | J4: 申請金額 | K4: 刪除金額 | L4: 補助金額
A43: =IF(ISBLANK(J5),"核銷 金額： 佰 拾 萬 仟 佰 拾 元整（大寫）","申請 補助經費總額： " &TEXT( J5,"[DBNum2]G/通用格式") & " 元整 (大寫)") -> 核銷 金額： 佰 拾 萬 仟 佰 拾 元整（大寫）
A44: =IF(ISBLANK(L5),"核銷 金額： 佰 拾 萬 仟 佰 拾 元整（大寫）","法定 補助經費總額： " &TEXT( L5,"[DBNum2]G/通用格式") & " 元整 (大寫)") -> 核銷 金額： 佰 拾 萬 仟 佰 拾 元整（大寫）
A45: 申請單位負責人 / 日期 | G45: 學生行政中心 總務部
A49: 學生議會 財務委員 (覆核) | E49: 學生議會 議長 | I49: 學生自治會 會長

Sheet 補助基準表
A1: 靜 宜 大 學 學生自治會 | E1: 課外活動費 補助 學生社團經費 補助基準表 | H1: =申請補助預算表!H1 -> 單位代號
A2: =申請補助預算表!A2 -> 一百零八學年度 ．第一學期 | E2: =申請補助預算表!E2 -> 單位屬性 (屬性) | F2: =申請補助預算表!F2 -> 負責人 (姓名)
A3: =申請補助預算表!A3 -> □期初 □期中□專案□基金 | E3: =申請補助預算表!E3 -> 單位名稱 (全名) | F3: =申請補助預算表!F3 -> 0
A4: 款 | B4: 項 | C4: 目 | D4: 申 請 名 稱 | E4: 計 算 基 礎 | F4: 申請金額 | G4: 刪除金額 | H4: 補助金額
A5: 0 | D5: 申請補助總額 | E5: 本款為統計各性質社團欲申請補助總款。 即申請補助表列下，起款至末款之總和。 | G5: =$F5-$H5 -> 0
A6: 1 | D6: 「活動」款 | E6: 本款為舉辦之企畫名稱。 例如：盃賽、講座、研習營、競賽、系列週、等。 | G6: =$F6-$H6 -> 0
A7: 2 | D7: 「社務」款 | E7: 本款為社團辦公室使用。 例如：耗材買進或補充、設備購置或維修、、等。 | G7: =$F7-$H7 -> 0
G8: =$F8-$H8 -> 0
B9: 1 | D9: 人事費 | E9: 本項補助，執行企畫時需專業人員之費用。 薪資發給需以簽到或簽名後統一造冊核銷。 | G9: =$F9-$H9 -> 0
C10: 1 | D10: 講師費 | E10: 外聘師資-酌以補助。 內聘師資-酌以補助。 | G10: =$F10-$H10 -> 0
C11: 2 | D11: 裁判費 | E11: 酌以補助。 | G11: =$F11-$H11 -> 0
C12: 3 | D12: 工讀費 | E12: 此一款項為機構款項，其他社團請勿申請。 | G12: =$F12-$H12 -> 0
G13: =$F13-$H13 -> 0
B14: 2 | D14: 租借費 | E14: 本項補助，需借用它人財產時所支費用。 | G14: =$F14-$H14 -> 0
C15: 1 | D15: 場地租借費 | E15: 校內場地-酌以補助金額（待議） 校外場地-酌以補助金額（待議） | G15: =$F15-$H15 -> 0
C16: 2 | D16: 服裝租借費 | E16: 補助金額待議。 | G16: =$F16-$H16 -> 0
C17: 3 | D17: 燈光音響租借費 | E17: 補助金額待議。 | G17: =$F17-$H17 -> 0
G18: =$F18-$H18 -> 0
B19: 3 | D19: 差旅費 | E19: 本項補助，因公代表本校出席活動屬之。 均以收據為憑，採實報實銷。 | G19: =$F19-$H19 -> 0
C20: 1 | D20: 誤餐費 | G20: =$F20-$H20 -> 0
C21: 2 | D21: 住宿費 | E21: 本縣市內-不予補助金額。 本縣市外-酌以補助金額。 | G21: =$F21-$H21 -> 0
C22: 3 | D22: 交通費 | E22: 最高額採計自強號火車票價（待議） | G22: =$F22-$H22 -> 0
C23: 4 | D23: 報名費 | E23: 個人-酌以補助（場/元） 團體-酌以補助（場/元） | G23: =$F23-$H23 -> 0
G24: =$F24-$H24 -> 0
B25: 4 | D25: 郵電費 | E25: 本項補助郵資、電信費用。 寄送郵件、文件、貨物時之費用。 籌備活動時所需支出的通話費與簡訊費用。 | G25: =$F25-$H25 -> 0
C26: 1 | D26: 郵費 | E26: 補助金額待議 | G26: =$F26-$H26 -> 0
C27: 2 | D27: 運費 | E27: 補助金額待議 | G27: =$F27-$H27 -> 0
C28: 3 | D28: 電話卡 | E28: 補助金額待議 | G28: =$F28-$H28 -> 0
C29: 4 | D29: 節費卡 | E29: 補助金額待議 | G29: =$F29-$H29 -> 0
G30: =$F30-$H30 -> 0
B31: 5 | D31: 印刷費 | E31: 本項補助，一切影印、印刷品之費用。 刊物費用另定之。 | G31: =$F31-$H31 -> 0
C32: 1 | D32: 海報費 | E32: 依據海報印刷大小定義之。（含節目單） A0-酌以補助金額（待議） A1-酌以補助金額（待議） A3-酌以補助金額（待議） A4-酌以補助金額（待議） | G32: =$F32-$H32 -> 0
C33: 2 | D33: 相片沖洗費 | E33: 3*4吋-酌以補助 5*6吋-酌以補助 | G33: =$F33-$H33 -> 0
C34: 3 | D34: 影印費 | E34: 酌以補助，未設上限 | G34: =$F34-$H34 -> 0
G35: =$F35-$H35 -> 0
B36: 6 | D36: 保險費 | E36: 本項補助，執行企畫其間所需保險之費用。 | G36: =$F36-$H36 -> 0
C37: 1 | D37: 個人保險 | E37: 酌以補助 | G37: =$F37-$H37 -> 0
C38: 2 | D38: 場地保險 | E38: 酌以補助 | G38: =$F38-$H38 -> 0
G39: =$F39-$H39 -> 0
B40: 7 | D40: 書報光碟費 | E40: 本項補助，購入或訂閱專業性書籍、雜誌等屬之。 電子數位化教學光碟、音樂光碟，亦屬之。 所持書籍雜誌需列定產編以便查察。 | G40: =$F40-$H40 -> 0
G41: =$F41-$H41 -> 0
B42: 8 | D42: 刊物費 | E42: 本項補助，執行企畫時所裝訂編造刊物屬之。 例如：體育競賽秩序冊、研習手冊、成果報告。 | G42: =$F42-$H42 -> 0
C43: 1 | D43: 秩序冊 | E43: 酌以補助，未設上限 | G43: =$F43-$H43 -> 0
C44: 2 | D44: 研習手冊 | E44: 酌以補助，未設上限 | G44: =$F44-$H44 -> 0
G45: =$F45-$H45 -> 0
B46: 9 | D46: 設備費 | E46: 補助支用非租賃設備與非耗材者之費用屬之。 所購置之設備需列定產編以便查察。 | G46: =$F46-$H46 -> 0
C47: 1 | D47: 電子計算機 | E47: 酌以補助，未設上限 | G47: =$F47-$H47 -> 0
C48: 2 | D48: 釘書機 | E48: 酌以補助，未設上限 | G48: =$F48-$H48 -> 0
C49: 3 | D49: 剪、裁、美工刀 | E49: 酌以補助，未設上限 | G49: =$F49-$H49 -> 0
C50: 4 | D50: 電子擴音器 | E50: 酌以補助，未設上限 | G50: =$F50-$H50 -> 0
G51: =$F51-$H51 -> 0
B52: 10 | D52: 耗材費 | E52: 本項補助，執行企畫時所需紙類、文具等耗材。 1.最少單一學期內耗損屬之。 2.最小單一價格150元以下屬之。 3.醫療性藥、用品不在此列。 滿足以上三點，則屬耗材之，可不列定產編。 救傷隊，因社團宗旨所致，醫療性用品可列耗材。 | G52: =$F52-$H52 -> 0
C53: 1 | D53: 紙張 | E53: 酌以補助，未設上限 | G53: =$F53-$H53 -> 0
C54: 2 | D54: 廣告顏料 | E54: 酌以補助，未設上限 | G54: =$F54-$H54 -> 0
C55: 3 | D55: 筆類 | E55: 酌以補助，未設上限 | G55: =$F55-$H55 -> 0
G56: =$F56-$H56 -> 0
B57: 11 | D57: 維修費 | E57: 本項補助，維修設備費用屬之。 維修之設備名稱需明定，並與收據同，實報時銷。 此款項請酌予申請，並注意對其他補助產生排擠。 | G57: =$F57-$H57 -> 0
C58: 1 | D58: 鋼琴調音 | E58: 酌以補助，未設上限。 | G58: =$F58-$H58 -> 0
G59: =$F59-$H59 -> 0
B60: 12 | D60: 雜費 | E60: 本項補助，以單一款總額為基準，酌已補助。 | G60: =$F60-$H60 -> 0

Sheet 各屬性總表 
A1: 0 | B1: 學生會 | C1: 300 | D1: 思潮性 | E1: 700 | F1: 學藝性
A2: 1 | B2: 行政中心-秘書處 | C2: 301 | D2: 生命探索社 | E2: 701 | F2: 台灣文史采風社（停）
A3: 2 | B3: 行政中心-公關部 | C3: 302 | D3: 光鹽社 | E3: 702 | F3: 廣播社（停）
A4: 3 | B4: 行政中心-文化部 | C4: 303 | D4: 宇宙真道靜心社（停） | E4: 703 | F4: 金融證券研究社
A5: 4 | B5: 行政中心-活動部 | C5: 304 | D5: 東方哲學社 | E5: 704 | F5: 健言社(停)
A6: 5 | B6: 行政中心-研發部（停） | C6: 305 | D6: 信望愛社 | E6: 705 | F6: 美工社
A7: 6 | B7: 行政中心-新聞部 | C7: 306 | D7: 學園愛加倍社 | E7: 706 | F7: 國畫社(停)
A8: 7 | B8: 行政中心-學社部 | C8: 307 | D8: 青年領袖教育學社 | E8: 707 | F8: 電腦研習社（停）
A9: 8 | B9: 行政中心-學權部 | C9: 308 | D9: 崇德社 | E9: 708 | F9: 電影社
A10: 9 | B10: 行政中心-總務部 | C10: 309 | D10: 如來實證社（停） | E10: 709 | F10: 編輯研究社（停）
A11: 10 | B11: 行政中心-選舉委員會 | C11: 310 | D11: 禪悅社 | E11: 710 | F11: 攝影社
A12: 11 | B12: 行政中心-畢業生委員會 | C12: 400 | D12: 音樂性 | E12: 711 | F12: 回原社（停）
... A52: 209 | B52: 勵志親善大使服務隊(停) | C52: 614 | D52: 全方位CEO培育社 | E52: 924 | F52: 路跑社
A53: 210 | B53: 複式童軍團
A54: 211 | B54: 法律服務社
